BEGIN:VCALENDAR
PRODID:NingEventWidget-v1
VERSION:2.0
METHOD:PUBLISH
BEGIN:VEVENT
UID:2508951:Event:27740
DTSTAMP:20260425T084036Z
SUMMARY:Live Show
DESCRIPTION:West and Daniels LIVE\n\nFor more information visit https:
 //vbnightlife.com/events/live-show-5
DTSTART:20100128T233000Z
DTEND:20100129T033000Z
CATEGORIES:live, concert
LOCATION:Scooter's Bar and Grill
WEBSITE:http://www.westanddaniels.com
URL:http://www.westanddaniels.com
CONTACT:757-809-3340
ORGANIZER:Scooter's
ATTACH;FMTTYPE="image/jpeg":http://storage.ning.com/topology/rest/1.0/
 file/get/1664097174?profile=original
ATTENDEE;ROLE=REQ-PARTICIPANT;PARTSTAT=ACCEPTED;RSVP=TRUE;CN="Karen Fa
 nn":https://vbnightlife.com/profile/KarenFann
END:VEVENT
END:VCALENDAR
