BEGIN:VCALENDAR
PRODID:NingEventWidget-v1
VERSION:2.0
METHOD:PUBLISH
BEGIN:VEVENT
UID:2508951:Event:334773
DTSTAMP:20260420T060838Z
SUMMARY:Live Music with Bebop and Rock Steady at Woody McGee's
DESCRIPTION:Bebop and Rock Steady play acoustic classic rock, country 
 and pop with their special versions of classics. Great Music Great Foo
 d and Drink Prices Great Service Great Atmosphere.\nCome and get Mike 
 to play Tambourine with the band!!! \n\nFor more information visit ht
 tps://vbnightlife.com/events/live-music-with-bebop-and-rock-steady-at-
 woody-mcgee-s
DTSTART:20160403T010000Z
DTEND:20160403T170000Z
CATEGORIES:live, music
LOCATION:Woody McGee's
WEBSITE:http://www.endlessmicentertainment.com
URL:http://www.endlessmicentertainment.com
CONTACT:757-222-6775
ORGANIZER:bebop and Rock Steady
ATTACH;FMTTYPE="image/jpeg":http://storage.ning.com/topology/rest/1.0/
 file/get/1664304923?profile=original
ATTENDEE;ROLE=REQ-PARTICIPANT;PARTSTAT=ACCEPTED;RSVP=TRUE;CN="Calvin N
 ewby":https://vbnightlife.com/profile/CalvinNewby
END:VEVENT
END:VCALENDAR
