BEGIN:VCALENDAR
PRODID:NingEventWidget-v1
VERSION:2.0
METHOD:PUBLISH
BEGIN:VEVENT
UID:2508951:Event:211420
DTSTAMP:20260420T103418Z
SUMMARY:Live Music Show at Peabodys!
DESCRIPTION:\nDon't miss this fun event featuring local live musicians
 !!! \nWhen: February 16th 8:00pm\nWhere: Peabody's Nightclub\nWho: So
 me performers include Isaac Gay, Jessie Evans, Tommy Johnson and Camp
 us \nCost: ONLY $10!!! \nCall Isaac Gay for tickets at 757 215 6241\
 n\nFor more information visit https://vbnightlife.com/events/live-musi
 c-show-at-peabodys
DTSTART:20130217T010000Z
DTEND:20130217T050000Z
CATEGORIES:peabodys, "virginia beach nightlife", "isaac gay"
LOCATION:Peabodys - Virginia Beach
WEBSITE:
URL:
CONTACT:
ORGANIZER;CN="VBnightlife.com":https://vbnightlife.com/profile/admin
ATTACH;FMTTYPE="image/jpeg":http://storage.ning.com/topology/rest/1.0/
 file/get/1664187394?profile=original
ATTENDEE;ROLE=REQ-PARTICIPANT;PARTSTAT=ACCEPTED;RSVP=TRUE;CN="VBnightl
 ife.com":https://vbnightlife.com/profile/admin
END:VEVENT
END:VCALENDAR
