BEGIN:VCALENDAR
PRODID:NingEventWidget-v1
VERSION:2.0
METHOD:PUBLISH
BEGIN:VEVENT
UID:2508951:Event:294772
DTSTAMP:20260422T120654Z
SUMMARY:Light the Night Walk
DESCRIPTION:Saturday, November 1, 2014 - 5:00pm - 8:00pm\n\n\nNeptu
 ne's Park\n\n\n\nPlease join us for The Leukemia & Lymphoma Society’
 s annual Light The Night Walk on Saturday, November 1st, 2014 at Neptu
 ne’s Park.\n\nLight The Night funds lifesaving research and support 
 for people battling blood cancers. Friends, families and co-workers fo
 rm fundraising teams, and their efforts culminate in an inspirational,
  memorable evening walk down the Virginia Beach Boardwalk. Light The N
 ight is a leisurely, family friendly walk. The evening’s festivities
  include music, food, and family activities. All ages are welcome to p
 articipate!\n\nWhen we walk, cancer runs! For more information about L
 ight The Night, please contact Ann Flippin at Ann.Flippin@lls.org.\n\
 n5:00 PM: Registration opens,entertainment & children's activities be
 gin, and refreshments available for Champions For Cures 6:00 PM: Rem
 embrance ceremony6:30 PM: Stage program 7:00 PM: Walk starts!\nFAQs:\
 nAre dogs allowed at the Walks? Crowd-friendly dogs are allowed at th
 e Walks. All dogs must be on leash at all times.\nCan strollers or bic
 ycles be used? Strollers may be used at the Walks. Bicycles, segways 
 and scooters are not allowed.Are the Walks rain or shine? All Walks a
 re held rain or shine! In case of extreme or unsafe conditions, this s
 ite will be updated by 3:00 p.m. the day of the Walk with any cancella
 tion information or updates.\nFor additional questions, please contac
 t:Whitney Traynham, Campaign ManagerWhitney.Traynham@lls.org(804) 774-
 2262\nPaige Givens, Campaign SpecialistPaige.Givens@lls.org(804) 774-2
 260\n\nFor more information visit https://vbnightlife.com/events/light
 -the-night-walk
DTSTART:20141101T210000Z
DTEND:20141102T000000Z
CATEGORIES:fundraiser, "leukemia & lymphoma society"
LOCATION:Neptune's Park
WEBSITE:
URL:
CONTACT:
ORGANIZER;CN="VBnightlife.com":https://vbnightlife.com/profile/admin
ATTACH;FMTTYPE="image/jpeg":http://storage.ning.com/topology/rest/1.0/
 file/get/1664247240?profile=original
ATTENDEE;ROLE=REQ-PARTICIPANT;PARTSTAT=ACCEPTED;RSVP=TRUE;CN="VBnightl
 ife.com":https://vbnightlife.com/profile/admin
END:VEVENT
END:VCALENDAR
