BEGIN:VCALENDAR
PRODID:NingEventWidget-v1
VERSION:2.0
METHOD:PUBLISH
BEGIN:VEVENT
UID:2508951:Event:19853
DTSTAMP:20260425T131807Z
SUMMARY:Lenda Murray Bodybuilding, Figure and Bikini Championships
DESCRIPTION:Admission: 9 a.m. competition - $15; 6 p.m. competition $3
 0.00 - $60.00\n\nEvent Dates:\nAug 22, 2009\n9 a.m. and 6 p.m.\n\nEven
 t location:\nHarrison Opera House\n160 Virginia Beach Blvd.\nNorfolk V
 A 23510\n(757) 664-6222\n\nFor more information visit https://vbnightl
 ife.com/events/lenda-murray-bodybuilding
DTSTART:20090822T040000Z
DTEND:20090823T035900Z
CATEGORIES:sports
LOCATION:Virginia Beach / Norfolk
WEBSITE:
URL:
CONTACT:
ORGANIZER;CN="VBnightlife.com":https://vbnightlife.com/profile/admin
ATTACH;FMTTYPE="image/jpeg":http://storage.ning.com/topology/rest/1.0/
 file/get/1664085641?profile=original
ATTENDEE;ROLE=REQ-PARTICIPANT;PARTSTAT=ACCEPTED;RSVP=TRUE;CN="VBnightl
 ife.com":https://vbnightlife.com/profile/admin
END:VEVENT
END:VCALENDAR
