BEGIN:VCALENDAR
PRODID:NingEventWidget-v1
VERSION:2.0
METHOD:PUBLISH
BEGIN:VEVENT
UID:2508951:Event:317147
DTSTAMP:20260424T074420Z
SUMMARY:SOLD OUT: \"LEARN TO SHOOT\" NIGHT AT COLONIAL SHOOTING ACADEM
 Y - ONLY $29 (LESS THAN 1/2 OFF)
DESCRIPTION:Join us at Colonial Shooting Academy  Wednesday November
  11th at 5:30pm and LEARN HOW TO SHOOT with the experts!. \n\nYou wil
 l have an hour to shoot with 2 range officers to help you with everyth
 ing from learning how to hold the gun to improving your shot.\n\n$29 p
 rice includes an hour of shooting, a handgun, targets, eyes and ears f
 or safety.  Ammunition is extra. The price of a box of ammunition sta
 rt at $7.50 and depend on what kind of gun you select.\n\n$29 per pers
 on is an awesome deal! If you went on your own, this would cost $65 f
 or the hour to rent a lane and all of the equipment. This special dis
 counted rate is just for us - one night a month!  Next event is Decem
 ber 9th!\n\nMany have asked.... You do NOT have to have 2 people to at
 tend. Many people come alone and join the group for a fun and educatio
 nal evening\n\nUse this link to reserve your spot: http://mkt.com/vbl
 ife/colonial-shooting-academy-night\n\nThe range officers will make su
 re you understand how the gun works, make sure you feel comfortable ha
 ndling it and even assist you if need be inside the range. Safety is t
 heir  number one priority. If anyone from beginner shooter to an adva
 nced shooter needs help they are there!\n\nChoose from the following g
 uns:\nBeginner (22 Cal)\nIntermediate (9mm)\nAdvanced (45mm)\n \nPr
 e-payment is required. Only 18 spots available!\nlhttp://mkt.com/vblif
 e/colonial-shooting-academy-night\nWhen you register you will have an 
 opportunity to select your gun and pre-pay your ammunition. We STRONGL
 Y suggest you make your gun selection and pay for your ammo in advance
 . This will save you time when you arrive and ensure that you have a f
 ull hour on the range and ensure the gun you are interested in shootin
 g\n\nOur range time begins at 6 and instruction and short video begin 
 promptly at 5:30. Suggested arrival time is 5:15.. no later than 5:30 
 or you risk not taking advantage of the full hour range time.\n\nIf yo
 u have any questions about this event please call Nicole at 757 652 08
 08 or email nicole@coastalvirginiamarketing.com\n \nNo one pregnant 
 or nursing will be permitted in the range\nValid drivers license is re
 quired. Must be 21+ to participate\n(Photos of Rock Girl Jordan by Mal
 lory Hot Mess Photography for FM99)\n\n   \n\nFor more information v
 isit https://vbnightlife.com/events/learn-to-shoot-night-at-colonial-s
 hooting-academy-only-29-less
DTSTART:20151111T223000Z
DTEND:20151112T000000Z
CATEGORIES:"colonial shooting academy", "events in virginia beach", "t
 hings to do in virginia beach"
LOCATION:Colonial Shooting Academy
WEBSITE:
URL:
CONTACT:757 652 0808
ORGANIZER:VBnightlife.com / VBdaylife.com / VBhotdeals.com
ATTACH;FMTTYPE="image/jpeg":http://storage.ning.com/topology/rest/1.0/
 file/get/1664289725?profile=original
ATTENDEE;ROLE=REQ-PARTICIPANT;PARTSTAT=ACCEPTED;RSVP=TRUE;CN="VBnightl
 ife.com":https://vbnightlife.com/profile/admin
END:VEVENT
END:VCALENDAR
