BEGIN:VCALENDAR
PRODID:NingEventWidget-v1
VERSION:2.0
METHOD:PUBLISH
BEGIN:VEVENT
UID:2508951:Event:294892
DTSTAMP:20260425T201723Z
SUMMARY:LARRY GRAHAM IN NORFOLK!
DESCRIPTION:\nLarry Graham (born August 14, 1946 in Beaumont, Texas) i
 s an American baritone singer, musician, songwriter, and record produc
 er. He is best known as both the bass guitar player in the popular and
  influential psychedelic soul/funk band Sly & The Family Stone, and a
 s the founder and frontman ofGraham Central Station. He is credited wi
 th the invention of the slapping technique, which radically expanded t
 he tonal palette of the bass, although he himself refers to the techni
 que as \"Thumpin' and Pluckin'.\"\n \nSee youtube video here:https://
 www.youtube.com/watch?v=3e7EF7rRA9M\n\nFor more information visit http
 s://vbnightlife.com/events/larry-graham-in-norfolk
DTSTART:20140830T220000Z
DTEND:20140831T030000Z
CATEGORIES:"larry graham", jazz
LOCATION:Sheraton Waterside
WEBSITE:http://www.jazzinformance.com
URL:http://www.jazzinformance.com
CONTACT:800-838-3006
ORGANIZER:VBnightlife.com / NorfolkNightlife.com
ATTACH;FMTTYPE="image/jpeg":http://storage.ning.com/topology/rest/1.0/
 file/get/1664247142?profile=original
ATTENDEE;ROLE=REQ-PARTICIPANT;PARTSTAT=ACCEPTED;RSVP=TRUE;CN="Rolan St
 ears":https://vbnightlife.com/profile/RolanStears
ATTENDEE;ROLE=REQ-PARTICIPANT;PARTSTAT=ACCEPTED;RSVP=TRUE;CN="VBnightl
 ife.com":https://vbnightlife.com/profile/admin
END:VEVENT
END:VCALENDAR
