BEGIN:VCALENDAR
PRODID:NingEventWidget-v1
VERSION:2.0
METHOD:PUBLISH
BEGIN:VEVENT
UID:2508951:Event:39255
DTSTAMP:20260425T231426Z
SUMMARY:LARGER THAN LIFE @ The New Moon Cafe
DESCRIPTION:Come party with a Virginia Beach favorite. Live entertainm
 ent starts @ 10:00 p.m.\n\nFor more information visit https://vbnightl
 ife.com/events/larger-than-life-the-new-moon
DTSTART:20100612T040000Z
DTEND:20100613T035900Z
CATEGORIES:live, band--party
LOCATION:The New Moon Cafe
WEBSITE:
URL:
CONTACT:(757) 437-8230
ORGANIZER;CN="New Moon Cafe":https://vbnightlife.com/profile/PeterFlet
 cher
ATTACH;FMTTYPE="image/jpeg":http://storage.ning.com/topology/rest/1.0/
 file/get/1664111626?profile=original
ATTENDEE;ROLE=REQ-PARTICIPANT;PARTSTAT=ACCEPTED;RSVP=TRUE;CN="Rolan St
 ears":https://vbnightlife.com/profile/RolanStears
ATTENDEE;ROLE=REQ-PARTICIPANT;PARTSTAT=ACCEPTED;RSVP=TRUE;CN="New Moon
  Cafe":https://vbnightlife.com/profile/PeterFletcher
END:VEVENT
END:VCALENDAR
