BEGIN:VCALENDAR
PRODID:NingEventWidget-v1
VERSION:2.0
METHOD:PUBLISH
BEGIN:VEVENT
UID:2508951:Event:27963
DTSTAMP:20260425T090209Z
SUMMARY:Lampin! Jazz breaks vol.1with Dj Cornbread
DESCRIPTION:Bringing you something old. Bringing you something new. Dj
  Cornbread goes Blue...with his upcoming installment of the Cornbread 
 experience: Lampin'! Jazz breaks vol.1, a journey on the history and e
 volution of the jazz & hiphop co-existence/infusion. The \"ode d' blue
 note\" set takes you down the road of the most samples jazz artists of
  all time to the forgotten and unheard of funkier choice cuts to get y
 a' noggin' bobbin' like your riding a toboggan.\nThe mix will be prefa
 ced by a 10-15 (maybe 20 depending on how nervous i am.) minute miniat
 ure lecture labeled, \"the baton passing\", a history and education of
  using america's first artform(jazz) to further the birth and self edu
 cation of another (hiphop) through means of production and djaying. fo
 od for the brain. come and get it.\nits free...you might even get a pr
 ize for showing up. if nothing else, come and vibe out on the ill jazz
  cuts jay senate wont play.\ncontact djcbread@gmail.com\n\nFor more in
 formation visit https://vbnightlife.com/events/lampin-jazz-breaks-vol1
 with-dj
DTSTART:20100128T023000Z
DTEND:20100128T050000Z
CATEGORIES:dj
LOCATION:THE BOOT
WEBSITE:http://insidetheboot.com
URL:http://insidetheboot.com
CONTACT:7576272668
ORGANIZER;CN="DJ CORNBREAD":https://vbnightlife.com/profile/DJCORNBREA
 D
ATTACH;FMTTYPE="image/jpeg":http://storage.ning.com/topology/rest/1.0/
 file/get/1664095839?profile=original
ATTENDEE;ROLE=REQ-PARTICIPANT;PARTSTAT=ACCEPTED;RSVP=TRUE;CN="DJ CORNB
 READ":https://vbnightlife.com/profile/DJCORNBREAD
END:VEVENT
END:VCALENDAR
