BEGIN:VCALENDAR
PRODID:NingEventWidget-v1
VERSION:2.0
METHOD:PUBLISH
BEGIN:VEVENT
UID:2508951:Event:194278
DTSTAMP:20260423T061614Z
SUMMARY:Lady Antebellum: Own The Night 2012 World Tour
DESCRIPTION:Lady Antebellum, Darius Rucker, Thompson Square\n\nTICKETS
 !\n\nFor more information visit https://vbnightlife.com/events/lady-an
 tebellum-own-the-night-2012-world-tour
DTSTART:20120610T230000Z
DTEND:20120611T030000Z
CATEGORIES:"virginia beach events", "virginia beach concerts", "farm b
 ureau live at virginia beach"
LOCATION:Farm Bureau Live at Virginia Beach
WEBSITE:http://www.livenation.com/Farm-Bureau-Live-at-Virginia-Beach-t
 ickets-Virginia-Beach/venue/8370?tm_link=edp_Venue_Name_1
URL:http://www.livenation.com/Farm-Bureau-Live-at-Virginia-Beach-ticke
 ts-Virginia-Beach/venue/8370?tm_link=edp_Venue_Name_1
CONTACT:
ORGANIZER;CN="VBnightlife.com":https://vbnightlife.com/profile/admin
ATTACH;FMTTYPE="image/jpeg":http://storage.ning.com/topology/rest/1.0/
 file/get/1664169074?profile=original
ATTENDEE;ROLE=REQ-PARTICIPANT;PARTSTAT=ACCEPTED;RSVP=TRUE;CN="VBnightl
 ife.com":https://vbnightlife.com/profile/admin
END:VEVENT
END:VCALENDAR
