BEGIN:VCALENDAR
PRODID:NingEventWidget-v1
VERSION:2.0
METHOD:PUBLISH
BEGIN:VEVENT
UID:2508951:Event:322596
DTSTAMP:20260422T152625Z
SUMMARY:EXCLUSIVE SHOPPING PARTY - Receive 20% Everything in the Store
 ! Private Shopping Party With Gillian Bura & Nicole Maxino
DESCRIPTION:One Night Only! Come shop with us and receive 20% off EVER
 YTHING in the store, including recently marked down sale items!\n Grea
 t Opportunity to get last minute outfits for the holidays as well as u
 nique gifts!\n\nFree Gift Wrapping!\n\nExclusively for Gillian Bura & 
 Nicole Maxino\nMONDAY, DECEMBER 21ST\n7:00 pm to 9:00 pm\nBevello Wome
 n's Fashion Boutique Town Center, Va Beach\n\n\n\nExclusive Event - On
 ly 50 Spots Available\n\nRSVP here: www.SignUpGenius.com/go/70A0E4DA4
 AB2EA64-private \n \nCall Nicole Maxino with any questions! 757 652 
 0808\n\nLadies only please\n\n\n\n\nFor more information visit https:/
 /vbnightlife.com/events/ladies-only-private-shopping-party-with-gillia
 n-bura-nicole-maxin
DTSTART:20151222T000000Z
DTEND:20151222T020000Z
CATEGORIES:"private shopping party", "clothing sale"
LOCATION:Bevello Women's Fashion Boutique
WEBSITE:
URL:
CONTACT:
ORGANIZER:VBnightlife.com / vbdaylife / vbhotdeals
ATTACH;FMTTYPE="image/jpeg":http://storage.ning.com/topology/rest/1.0/
 file/get/1664297490?profile=original
ATTENDEE;ROLE=REQ-PARTICIPANT;PARTSTAT=ACCEPTED;RSVP=TRUE;CN="VBnightl
 ife.com":https://vbnightlife.com/profile/admin
END:VEVENT
END:VCALENDAR
