BEGIN:VCALENDAR
PRODID:NingEventWidget-v1
VERSION:2.0
METHOD:PUBLISH
BEGIN:VEVENT
UID:2508951:Event:172320
DTSTAMP:20260420T110703Z
SUMMARY:Ladies Night at 11th Street Taphouse from 6 to 9 with Josh Jor
 dan and Everlasting Lounge from 9:30 to close!
DESCRIPTION:It's Ladies Night from 6 to 9 with Josh Jordan and men ar
 e always welcome too! $5.00 Martini's for the Ladies and $2.00 Bud Li
 te and $2.00 Miller Lite for all!\n \nWe have Beauty Control Hand Spa
  and so much more for the ladies to spoil themselves!\n \nA little bi
 t about our clothing sponsor:  \"Choka clothing strives to be univers
 al. Choka is about a healthy mind and a healthy lifestyle. The Choka b
 rand promotes being active and helping the community above all else, p
 rimarily through outdoor, nature based pursuits such as surfing, skati
 ng, and snowboarding. We try to reflect the attitude of these athletes
  in a positive, healthy, and fun manner.\"\n \nWe have Spike Ladies N
 ight Velvet Cupcakes from Carolina Cupcakes and they are yummy!\n \nE
 verlasting Lounge is in the house performing from 9:30 to cose.  As a
 lways VBnightlife is in the house!  See you there!\n\nFor more inform
 ation visit https://vbnightlife.com/events/ladies-night-at-11th-street
 -taphouse-from-6-to-9-and-everlasting-
DTSTART:20111007T220000Z
DTEND:20111008T034500Z
CATEGORIES:ladies, night, and, men, are, welcome, "too!"
LOCATION:11th Street Taphouse
WEBSITE:http://www.11taphouse.com/
URL:http://www.11taphouse.com/
CONTACT:(757) 321-8354
ORGANIZER;CN="VBnightlife.com":https://vbnightlife.com/profile/admin
ATTACH;FMTTYPE="image/jpeg":http://storage.ning.com/topology/rest/1.0/
 file/get/1664152940?profile=original
ATTENDEE;ROLE=REQ-PARTICIPANT;PARTSTAT=ACCEPTED;RSVP=TRUE;CN="VBnightl
 ife.com":https://vbnightlife.com/profile/admin
END:VEVENT
END:VCALENDAR
