BEGIN:VCALENDAR
PRODID:NingEventWidget-v1
VERSION:2.0
METHOD:PUBLISH
BEGIN:VEVENT
UID:2508951:Event:177981
DTSTAMP:20260422T063443Z
SUMMARY:Ladies Night at \"11th St.Taphouse\" with Brent Shepard from 6
 :30 to 9 and Everlasting Lounge from 9:30 to close and sooo much more!
DESCRIPTION:\"11th St. Taphouse\" has the best Ladies Night in Town wi
 th $5.00 Martini's for the Ladies and $2.00 Domestics for all! Men are
  always welcomed...and the Ladies like...\n \nWe have Brent Shepard p
 erforming from 6:30 to 9:00 and then Everlasting Lounge from 9:30 to c
 lose.  We have your entire night covered with lots of music, great f
 ood, great drinks & of course best beer in town!\n \nWe have Spiked C
 upcakes from Carolina Cupcakes if you come sign up for our new great
  texting program to get great deals all over town!  Come see Rhonda t
 o sign up and get you treat!\n \nVBnightlife is in the house and we h
 ave surprises that vary every Friday.  Got to be there to get them! 
  Don't miss out!\n\nFor more information visit https://vbnightlife.com
 /events/ladies-night-at-11th-st-taphouse-with-brent-shepard-from-6-30-
 to-
DTSTART:20111111T230000Z
DTEND:20111112T044500Z
CATEGORIES:ladies, night, and, men, are, welcome, "too!"
LOCATION:11th St. Taphouse
WEBSITE:http://www.11taphouse.com/
URL:http://www.11taphouse.com/
CONTACT:(757) 321-8354
ORGANIZER;CN="VBnightlife.com":https://vbnightlife.com/profile/admin
ATTACH;FMTTYPE="image/jpeg":http://storage.ning.com/topology/rest/1.0/
 file/get/1664154497?profile=original
ATTENDEE;ROLE=REQ-PARTICIPANT;PARTSTAT=ACCEPTED;RSVP=TRUE;CN="VBnightl
 ife.com":https://vbnightlife.com/profile/admin
END:VEVENT
END:VCALENDAR
