BEGIN:VCALENDAR
PRODID:NingEventWidget-v1
VERSION:2.0
METHOD:PUBLISH
BEGIN:VEVENT
UID:2508951:Event:25772
DTSTAMP:20260425T142812Z
SUMMARY:L O O P  @  BIG WOODY'S
DESCRIPTION:\"L O O P\" @ \"BIG WOODY'S\" Nov. 28, Sat. Nite. LOOP wil
 l be Rock n Big Woody's on 123 Battlefield Blvd. N. ph # 757-436-1919 
 Sat nite at 09:00 pm. As always when L O O P gigs all the girls get a 
 toy ! this weeks theme (optional dress) is \"CHEERLEADERS\", so girls 
 you are invited to dress up to support your favorite team. It's always
  more fun when you are there.\nthanks\nm drummer\n\nFor more informati
 on visit https://vbnightlife.com/events/l-o-o-p-big-woodys
DTSTART:20091129T020000Z
DTEND:20091129T060000Z
CATEGORIES:rock, club
LOCATION:BIG WOODY'S 123 Battlefield Blvd. N Chesapeake, VA, 23320
WEBSITE:http://www.facebook.com/l.php?u=http%3A%2F%2Fwww.bigwoodysbara
 ndgrill.com%2F&h=
URL:http://www.facebook.com/l.php?u=http%3A%2F%2Fwww.bigwoodysbarandgr
 ill.com%2F&h=
CONTACT:757-436-1919
ORGANIZER;CN=mark:https://vbnightlife.com/profile/mark
ATTACH;FMTTYPE="image/jpeg":http://storage.ning.com/topology/rest/1.0/
 file/get/1664095216?profile=original
ATTENDEE;ROLE=REQ-PARTICIPANT;PARTSTAT=ACCEPTED;RSVP=TRUE;CN=mark:http
 s://vbnightlife.com/profile/mark
END:VEVENT
END:VCALENDAR
