BEGIN:VCALENDAR
PRODID:NingEventWidget-v1
VERSION:2.0
METHOD:PUBLISH
BEGIN:VEVENT
UID:2508951:Event:19038
DTSTAMP:20260423T002309Z
SUMMARY:KRUNCH @  SOUTHBEACH GRILL
DESCRIPTION:Krunch is based out of Virginia Beach, Virginia and was fo
 rmed by musicians of other local bands in the area. Each member has ov
 er 10 years experience performing in cover and original bands througho
 ut the local and regional area. Krunch is a cover band that plays popu
 lar dance and alternative music performed with high energy. The member
 s are highly motivated musicians with plenty of stage experience and p
 rofessional attitude. The live show is geared towards entertaining the
  crowd with popular music enhanced by a light show, which guarantees a
 udience participation. Krunch’s goal is to play energetic music for 
 everyone to enjoy from the first song to the last. Definitely a band t
 o party with.  9:30 to 1:30\n\nFor more information visit https://vbni
 ghtlife.com/events/krunch-southbeach-grill
DTSTART:20120713T040000Z
DTEND:20120714T035900Z
CATEGORIES:band
LOCATION:SOUTH BEACH GRILL
WEBSITE:
URL:
CONTACT:
ORGANIZER;CN="VBnightlife.com":https://vbnightlife.com/profile/admin
ATTACH;FMTTYPE="image/jpeg":http://storage.ning.com/topology/rest/1.0/
 file/get/1664129019?profile=original
ATTENDEE;ROLE=REQ-PARTICIPANT;PARTSTAT=ACCEPTED;RSVP=TRUE;CN="VBnightl
 ife.com":https://vbnightlife.com/profile/admin
ATTENDEE;ROLE=REQ-PARTICIPANT;PARTSTAT=ACCEPTED;RSVP=TRUE;CN="Pamela M
 cEwen":https://vbnightlife.com/profile/PamelaMcEwen
ATTENDEE;ROLE=REQ-PARTICIPANT;PARTSTAT=ACCEPTED;RSVP=TRUE;CN=Terry:htt
 ps://vbnightlife.com/profile/Terry
ATTENDEE;ROLE=REQ-PARTICIPANT;PARTSTAT=ACCEPTED;RSVP=TRUE;CN=John:http
 s://vbnightlife.com/profile/John
ATTENDEE;ROLE=REQ-PARTICIPANT;PARTSTAT=ACCEPTED;RSVP=TRUE;CN="Rhonda G
 ardner Derring":https://vbnightlife.com/profile/Rhonda
ATTENDEE;ROLE=REQ-PARTICIPANT;PARTSTAT=ACCEPTED;RSVP=TRUE;CN="kim  e":
 https://vbnightlife.com/profile/kime
ATTENDEE;ROLE=REQ-PARTICIPANT;PARTSTAT=ACCEPTED;RSVP=TRUE;CN="Brenton 
 J. Crowell":https://vbnightlife.com/profile/BrentonJCrowell
ATTENDEE;ROLE=REQ-PARTICIPANT;PARTSTAT=ACCEPTED;RSVP=TRUE;CN="Rick Bui
 rke":https://vbnightlife.com/profile/RickBuirke
END:VEVENT
END:VCALENDAR
