BEGIN:VCALENDAR
PRODID:NingEventWidget-v1
VERSION:2.0
METHOD:PUBLISH
BEGIN:VEVENT
UID:2508951:Event:197733
DTSTAMP:20260420T110656Z
SUMMARY:Kiwanis of Norfolk Sponsored EDMARC Hospice for Children Poker
  Run Charity Event
DESCRIPTION:\n\nFor more information visit https://vbnightlife.com/eve
 nts/kiwanis-of-norfolk-sponsored-edmarc-hospice-for-children-poker
DTSTART:20120602T120000Z
DTEND:20120602T230000Z
CATEGORIES:kiwanis, of, norfolk, sponsored, edmarc, hospice, for, chil
 dren, poker, run, charity, event
LOCATION:Eagles' Nest Rocken Country Bar Registration starts at 8:00 a
 .m.
WEBSITE:http://www.eaglesnestrockincountrybar.com
URL:http://www.eaglesnestrockincountrybar.com
CONTACT:757-708-0055
ORGANIZER;CN="Lisa Smiley Hanlin":https://vbnightlife.com/profile/Lisa
 SmileyHanlin
ATTACH;FMTTYPE="image/jpeg":http://storage.ning.com/topology/rest/1.0/
 file/get/1664172554?profile=original
ATTENDEE;ROLE=REQ-PARTICIPANT;PARTSTAT=ACCEPTED;RSVP=TRUE;CN="Rolan St
 ears":https://vbnightlife.com/profile/RolanStears
ATTENDEE;ROLE=REQ-PARTICIPANT;PARTSTAT=ACCEPTED;RSVP=TRUE;CN=MOCEAN:ht
 tps://vbnightlife.com/profile/RalphJGargiulo
ATTENDEE;ROLE=REQ-PARTICIPANT;PARTSTAT=ACCEPTED;RSVP=TRUE;CN="Lisa Smi
 ley Hanlin":https://vbnightlife.com/profile/LisaSmileyHanlin
END:VEVENT
END:VCALENDAR
