BEGIN:VCALENDAR
PRODID:NingEventWidget-v1
VERSION:2.0
METHOD:PUBLISH
BEGIN:VEVENT
UID:2508951:Event:160756
DTSTAMP:20260423T103931Z
SUMMARY:KINGS OF LEON CANCELLED REMAINDER OF THEIR US TOUR
DESCRIPTION:Kings of Leon announced the cancellation of their U.S. to
 ur following an onstage meltdown at a performance in Dallas on Friday 
 night (July 29). Frontman Caleb Followill walked offstage after claimi
 ng he was too hot to perform, and the band subsequently postponed its 
 show in Houston scheduled for the following night.\n \n\"We are so so
 rry to say Kings of Leon are canceling their entire US tour due to Cal
 eb Followill suffering from vocal issues and exhaustion,\" reads a sta
 tement from the band's publicist. \"The band is devastated, but in ord
 er to give their fans the shows they deserve, they need to take this b
 reak.\"\n \nThe statement also says that the 28 dates \"cannot be res
 cheduled due to the band's international tour schedule. Tickets will b
 e refunded at point of purchase. Tickets purchased online or via phone
 s will be automatically refunded. The band will resume touring in Cana
 da at the Rogers Center in Vancouver, BC, on September 28th. That show
  was originally schedule for September 14th.\"\n \nKings of Leon Conc
 ert Cut Short, Another Nixed; Bassist Admits 'Problems in Band'\n \nT
 he tour was scheduled to make a swing throughout the Southeast this we
 ek, starting with Tampa on Tuesday (Aug. 2) and winding through West P
 alm Beach (Aug. 3), Charlotte (Aug. 5) and Virginia Beach (Aug. 6) bef
 ore heading up to the Northeast.\n \nDuring Friday's Dallas show, Fol
 lowill told fans at the Gexa Energy Pavilion that his voice was \"100 
 percent gone\" due to the heat. \"I'm gonna go backstage and I'm gonna
  vomit, I'm gonna drink a beer and I'm gonna come back out and play th
 ree more songs,\" Followill told the crowd before leaving the stage fo
 r good.\n\nFor more information visit https://vbnightlife.com/events/k
 ings-of-leon-cancelled-remain
DTSTART:20110806T040000Z
DTEND:20110807T035900Z
CATEGORIES:cancellation
LOCATION:Farm Bureau Live
WEBSITE:
URL:
CONTACT:
ORGANIZER;CN="VBnightlife.com":https://vbnightlife.com/profile/admin
ATTACH;FMTTYPE="image/jpeg":http://storage.ning.com/topology/rest/1.0/
 file/get/1664147266?profile=original
ATTENDEE;ROLE=REQ-PARTICIPANT;PARTSTAT=ACCEPTED;RSVP=TRUE;CN="Rolan St
 ears":https://vbnightlife.com/profile/RolanStears
ATTENDEE;ROLE=REQ-PARTICIPANT;PARTSTAT=ACCEPTED;RSVP=TRUE;CN="VBnightl
 ife.com":https://vbnightlife.com/profile/admin
END:VEVENT
END:VCALENDAR
