BEGIN:VCALENDAR
PRODID:NingEventWidget-v1
VERSION:2.0
METHOD:PUBLISH
BEGIN:VEVENT
UID:2508951:Event:74574
DTSTAMP:20260420T155031Z
SUMMARY:\"Kids Are Awesome\" Art Show to benefit \"ForKids\" homeless 
 shelter
DESCRIPTION:\n\n\n\n\n\n\n\n\n\nMore info\nCome out for another night 
 of amazing art featuring:Jeff SheelyChristine HarrisIan JewellDominick
  TaylorKelly ZiebellJustin LeakeNichole Ashikisand our \"Featured Arti
 st of the Month\"- Dos Manos ArtWe'll also be partnering up with \"For
 Kids\", a local homeless shelter for kids. We're going to be doing ano
 ther art raffle to help benefit them. For every dollar you donate you'
 ll get a raffle ticket for a chance to win a piece of local art. Come 
 show your support for the community and have a great time.\n\n\n\n\n\n
 \n\n\n\n\n\n\nFor more information visit https://vbnightlife.com/event
 s/kids-are-awesome-art-show-to
DTSTART:20110303T010000Z
DTEND:20110303T040000Z
CATEGORIES:fundraiser, art
LOCATION:Jewish Mother Backstage
WEBSITE:
URL:
CONTACT:
ORGANIZER;CN="VBnightlife.com":https://vbnightlife.com/profile/admin
ATTACH;FMTTYPE="image/jpeg":http://storage.ning.com/topology/rest/1.0/
 file/get/1664132373?profile=original
ATTENDEE;ROLE=REQ-PARTICIPANT;PARTSTAT=ACCEPTED;RSVP=TRUE;CN="VBnightl
 ife.com":https://vbnightlife.com/profile/admin
END:VEVENT
END:VCALENDAR
