BEGIN:VCALENDAR
PRODID:NingEventWidget-v1
VERSION:2.0
METHOD:PUBLISH
BEGIN:VEVENT
UID:2508951:Event:290335
DTSTAMP:20260425T102940Z
SUMMARY:Kicking Cancer in the Cornhole Tournament
DESCRIPTION:Calendars for Cancer presents Kicking Cancer in the Cornho
 le Tournament.  This tournament is raising money for our 2015 calenda
 r.  This calendar is composed of photos of various groups of men from
  the Hampton Roads area posing in tutus to raise support cancer.  100
 % of the proceeds of the sales from these calendars are being donated 
 to the American Cancer Society\n\nFor more information visit https://v
 bnightlife.com/events/kicking-cancer-in-the-cornhole-tournament
DTSTART:20140727T133000Z
DTEND:20140727T220000Z
CATEGORIES:cornhole, tournament
LOCATION:Redwing Park
WEBSITE:https://www.facebook.com/events/664576206951497/
URL:https://www.facebook.com/events/664576206951497/
CONTACT:757.828.6117
ORGANIZER;CN="Jennifer Hadsell":https://vbnightlife.com/profile/Jennif
 erHadsell
ATTACH;FMTTYPE="image/jpeg":http://storage.ning.com/topology/rest/1.0/
 file/get/1664237750?profile=original
ATTENDEE;ROLE=REQ-PARTICIPANT;PARTSTAT=ACCEPTED;RSVP=TRUE;CN="Jennifer
  Hadsell":https://vbnightlife.com/profile/JenniferHadsell
END:VEVENT
END:VCALENDAR
