BEGIN:VCALENDAR
PRODID:NingEventWidget-v1
VERSION:2.0
METHOD:PUBLISH
BEGIN:VEVENT
UID:2508951:Event:294817
DTSTAMP:20260420T235154Z
SUMMARY:Kicking Cancer in the Cornhole Tournament Part Deaux
DESCRIPTION:• Bring your partner team tournament• $40/team• Regi
 stration begins at 1pm; bags fly at 2pm• Cash Prizes for top 3 teams
 • Shootout competition on the side• 50/50 rafflesThis is a fundrai
 ser tournament for our Calendars for Cancer project. This project feat
 ures various groups of men from the Hampton Roads area wearing tutus a
 nd posing for the camera. 100% of the proceeds from the sales of these
  calendars will be donated to the American Cancer SocietyQuestions or 
 concerns please contact:jen@photojenic-photo.com757.828.6117 (call/tex
 t)\n\nFor more information visit https://vbnightlife.com/events/kickin
 g-cancer-in-the-cornhole-tournament-part-deaux
DTSTART:20140913T170000Z
DTEND:20140913T230000Z
CATEGORIES:fundraiser, cornhole, tournament
LOCATION:Big Woody's, Great Bridge
WEBSITE:https://www.facebook.com/events/1452644348337649/
URL:https://www.facebook.com/events/1452644348337649/
CONTACT:7578286117
ORGANIZER;CN="Jennifer Hadsell":https://vbnightlife.com/profile/Jennif
 erHadsell
ATTACH;FMTTYPE="image/jpeg":
ATTENDEE;ROLE=REQ-PARTICIPANT;PARTSTAT=ACCEPTED;RSVP=TRUE;CN="Rolan St
 ears":https://vbnightlife.com/profile/RolanStears
ATTENDEE;ROLE=REQ-PARTICIPANT;PARTSTAT=ACCEPTED;RSVP=TRUE;CN="Jennifer
  Hadsell":https://vbnightlife.com/profile/JenniferHadsell
END:VEVENT
END:VCALENDAR
