BEGIN:VCALENDAR
PRODID:NingEventWidget-v1
VERSION:2.0
METHOD:PUBLISH
BEGIN:VEVENT
UID:2508951:Event:12627
DTSTAMP:20260425T190420Z
SUMMARY:KEVIN COSTNER @ THE NORVA
DESCRIPTION:KEVIN COSTNER\n& MODERN WEST\nSaturday May 9th @ 8pm\n\nFo
 r more information visit https://vbnightlife.com/events/kevin-costner-
 the-norva
DTSTART:20090510T000000Z
DTEND:20090510T033000Z
CATEGORIES:concert
LOCATION:The Norva
WEBSITE:
URL:
CONTACT:
ORGANIZER;CN="Nicole Maxino":https://vbnightlife.com/profile/NicoleMax
 ino
ATTACH;FMTTYPE="image/jpeg":
ATTENDEE;ROLE=REQ-PARTICIPANT;PARTSTAT=ACCEPTED;RSVP=TRUE;CN="Nicole M
 axino":https://vbnightlife.com/profile/NicoleMaxino
END:VEVENT
END:VCALENDAR
