BEGIN:VCALENDAR
PRODID:NingEventWidget-v1
VERSION:2.0
METHOD:PUBLISH
BEGIN:VEVENT
UID:2508951:Event:64037
DTSTAMP:20260419T174328Z
SUMMARY:Kenny Rogers Holiday Show
DESCRIPTION:Celebrate this holiday season with a living legend! By now
 , Kenny Rogers has become such an icon that it's easy to forget how he
  got there. Having recorded more than 65 albums, which have sold over 
 100 million records worldwide, Rogers is an American icon in the same 
 league as The Beatles, Elton John, and Elvis Presley. Rogers has won t
 hree Grammy Awards, 11 People's Choice Awards, 18 American Music Award
 s, 8 Academy of Country Music Awards and 5 Country Music Association A
 wards, and he still loves touring and recording new music. Just look a
 t the titles: Lady, Ruby Don't Take Your Love to Town, The Gambler, Sh
 e Believes in Me, Islands in the Stream, We've Got Tonight, Buy Me A R
 ose. For five decades, Rogers has delivered memorable songs, drawing f
 ans among rock, pop, soul and country audiences.\n\nTickets: $51, $61,
  $74, $97\n\nFor more information visit https://vbnightlife.com/events
 /kenny-rogers-holiday-show
DTSTART:20101222T003000Z
DTEND:20101222T030000Z
CATEGORIES:concert
LOCATION:Sandler Center
WEBSITE:
URL:
CONTACT:
ORGANIZER;CN="VBnightlife.com":https://vbnightlife.com/profile/admin
ATTACH;FMTTYPE="image/jpeg":http://storage.ning.com/topology/rest/1.0/
 file/get/1664124795?profile=original
ATTENDEE;ROLE=REQ-PARTICIPANT;PARTSTAT=ACCEPTED;RSVP=TRUE;CN="VBnightl
 ife.com":https://vbnightlife.com/profile/admin
END:VEVENT
END:VCALENDAR
