BEGIN:VCALENDAR
PRODID:NingEventWidget-v1
VERSION:2.0
METHOD:PUBLISH
BEGIN:VEVENT
UID:2508951:Event:45044
DTSTAMP:20260422T060909Z
SUMMARY:Keegans @ Hilltop \"Brent Shepard\"
DESCRIPTION:Acoustic \"Brent Shepard\n\nFor more information visit htt
 ps://vbnightlife.com/events/keegans-hilltop-brent-shepard
DTSTART:20100827T010000Z
DTEND:20100827T050000Z
CATEGORIES:acoustic, gig
LOCATION:Keegans Pub
WEBSITE:
URL:
CONTACT:
ORGANIZER;CN="Brent Shepard":https://vbnightlife.com/profile/BrentShep
 ard
ATTACH;FMTTYPE="image/jpeg":
ATTENDEE;ROLE=REQ-PARTICIPANT;PARTSTAT=ACCEPTED;RSVP=TRUE;CN="Brent Sh
 epard":https://vbnightlife.com/profile/BrentShepard
END:VEVENT
END:VCALENDAR
