BEGIN:VCALENDAR
PRODID:NingEventWidget-v1
VERSION:2.0
METHOD:PUBLISH
BEGIN:VEVENT
UID:2508951:Event:8646
DTSTAMP:20260425T173130Z
SUMMARY:Karl Werne with BJ Leiderman @ Otani
DESCRIPTION:Not to be missed!\n\nFor more information visit https://vb
 nightlife.com/events/karl-werne-with-bj-leiderman
DTSTART:20090402T233000Z
DTEND:20090403T030000Z
CATEGORIES:live, music
LOCATION:Otani Grill
WEBSITE:
URL:
CONTACT:
ORGANIZER:Otani
ATTACH;FMTTYPE="image/jpeg":http://storage.ning.com/topology/rest/1.0/
 file/get/1664072360?profile=original
ATTENDEE;ROLE=REQ-PARTICIPANT;PARTSTAT=ACCEPTED;RSVP=TRUE;CN="Nicole M
 axino":https://vbnightlife.com/profile/NicoleMaxino
END:VEVENT
END:VCALENDAR
