BEGIN:VCALENDAR
PRODID:NingEventWidget-v1
VERSION:2.0
METHOD:PUBLISH
BEGIN:VEVENT
UID:2508951:Event:7913
DTSTAMP:20260425T231313Z
SUMMARY:KARL WERNE & BJ LEIDERMAN @ ABBEY ROAD
DESCRIPTION:Karl & BJ\n\n10pm to 1am\n\nFor more information visit htt
 ps://vbnightlife.com/events/karl-werne-bj-leiderman
DTSTART:20090306T050000Z
DTEND:20090307T045900Z
CATEGORIES:live, music
LOCATION:Abbey Road
WEBSITE:
URL:
CONTACT:
ORGANIZER:Abbey Road
ATTACH;FMTTYPE="image/jpeg":
ATTENDEE;ROLE=REQ-PARTICIPANT;PARTSTAT=ACCEPTED;RSVP=TRUE;CN="BJ Leide
 rman":https://vbnightlife.com/profile/BJLeiderman
ATTENDEE;ROLE=REQ-PARTICIPANT;PARTSTAT=ACCEPTED;RSVP=TRUE;CN="Nicole M
 axino":https://vbnightlife.com/profile/NicoleMaxino
END:VEVENT
END:VCALENDAR
