BEGIN:VCALENDAR
PRODID:NingEventWidget-v1
VERSION:2.0
METHOD:PUBLISH
BEGIN:VEVENT
UID:2508951:Event:144835
DTSTAMP:20260424T201857Z
SUMMARY:Karaoke @ Knuckleheads Roadhouse
DESCRIPTION:Karaoke night at Knuckleheads every Tuesday evening!\n\nFo
 r more information visit https://vbnightlife.com/events/karaoke-knuckl
 eheads
DTSTART:20110607T230000Z
DTEND:20110608T033000Z
CATEGORIES:karaoke, night
LOCATION:Knuckleheads Roadhouse
WEBSITE:http://www.knuckleheadsvb.com
URL:http://www.knuckleheadsvb.com
CONTACT:757-644-6200
ORGANIZER:
ATTACH;FMTTYPE="image/jpeg":
ATTENDEE;ROLE=REQ-PARTICIPANT;PARTSTAT=ACCEPTED;RSVP=TRUE;CN="James Sp
 agnuolo":https://vbnightlife.com/profile/JamesSpagnuolo
END:VEVENT
END:VCALENDAR
