BEGIN:VCALENDAR
PRODID:NingEventWidget-v1
VERSION:2.0
METHOD:PUBLISH
BEGIN:VEVENT
UID:2508951:Event:50505
DTSTAMP:20260420T105639Z
SUMMARY:Junior League of Norfolk-Virginia Beach Merrytime Market
DESCRIPTION:Shopping Extravaganza... arts & crafts, jewelry, food, clo
 thing, etc. Great for all ages, locals and visitors! $5/ticket\n\n\n\n
 For more information visit https://vbnightlife.com/events/junior-leagu
 e-of
DTSTART:20101113T140000Z
DTEND:20101114T020000Z
CATEGORIES:sandler, center, for, the, performing, arts
LOCATION:Sandler Center for the Performing Arts
WEBSITE:http://www.jlnvb.org
URL:http://www.jlnvb.org
CONTACT:7576237270
ORGANIZER:Kelly Kelly@3leos.com
ATTACH;FMTTYPE="image/jpeg":http://storage.ning.com/topology/rest/1.0/
 file/get/1664120983?profile=original
ATTENDEE;ROLE=REQ-PARTICIPANT;PARTSTAT=ACCEPTED;RSVP=TRUE;CN="Rolan St
 ears":https://vbnightlife.com/profile/RolanStears
ATTENDEE;ROLE=REQ-PARTICIPANT;PARTSTAT=ACCEPTED;RSVP=TRUE;CN=Sabrina:h
 ttps://vbnightlife.com/profile/Sabrina
END:VEVENT
END:VCALENDAR
