BEGIN:VCALENDAR
PRODID:NingEventWidget-v1
VERSION:2.0
METHOD:PUBLISH
BEGIN:VEVENT
UID:2508951:Event:282808
DTSTAMP:20260423T075301Z
SUMMARY:JUMPING FOR A PURPOSE - WOUNDED WEAR BENEFIT
DESCRIPTION:\nFDAS\n\nFor more information visit https://vbnightlife.c
 om/events/jumping-for-a-purpose-wounded-wear-benefit
DTSTART:20140531T120000Z
DTEND:20140531T190000Z
CATEGORIES:fundraiser, "wounded wear"
LOCATION:SKYDIVE SUFFOLK
WEBSITE:
URL:
CONTACT:
ORGANIZER;CN="VBnightlife.com":https://vbnightlife.com/profile/admin
ATTACH;FMTTYPE="image/jpeg":http://storage.ning.com/topology/rest/1.0/
 file/get/1664230351?profile=original
ATTENDEE;ROLE=REQ-PARTICIPANT;PARTSTAT=ACCEPTED;RSVP=TRUE;CN="VBnightl
 ife.com":https://vbnightlife.com/profile/admin
END:VEVENT
END:VCALENDAR
