BEGIN:VCALENDAR
PRODID:NingEventWidget-v1
VERSION:2.0
METHOD:PUBLISH
BEGIN:VEVENT
UID:2508951:Event:40957
DTSTAMP:20260425T091948Z
SUMMARY:Jonny's Lemonade Stand @ The Spot
DESCRIPTION:Jonny's Lemonade Stand @ The Spot July 9th friday night Ho
 pe to see everyone out at \"The Spot\", and as always, all the girls g
 et a toy at every \"Jonny's Lemonade Stand\" gig\nthanks\nM Drummer\n\
 n\n\nFor more information visit https://vbnightlife.com/events/jonnys-
 lemonade-stand-the
DTSTART:20100709T230000Z
DTEND:20100710T023000Z
CATEGORIES:rock, event
LOCATION:Jonny's Lemonade Stand @ The Spot
WEBSITE:
URL:
CONTACT:757 460 9455
ORGANIZER;CN=mark:https://vbnightlife.com/profile/mark
ATTACH;FMTTYPE="image/jpeg":
ATTENDEE;ROLE=REQ-PARTICIPANT;PARTSTAT=ACCEPTED;RSVP=TRUE;CN=mark:http
 s://vbnightlife.com/profile/mark
END:VEVENT
END:VCALENDAR
