BEGIN:VCALENDAR
PRODID:NingEventWidget-v1
VERSION:2.0
METHOD:PUBLISH
BEGIN:VEVENT
UID:2508951:Event:208981
DTSTAMP:20260424T045852Z
SUMMARY:JOHN MASSEY RIDE / BENEFIT
DESCRIPTION:Registration begins at 10am.\nNatalie Moreland will be sin
 ging the National Anthem at noon and DJ Brian Edmonson will be perform
 ing all day!\n\nChopper 10 pilot fights for his life \n\nAva Hurdle\n
 \nPORTSMOUTH, Va. (WAVY) - Liver failure was not something WAVY-TV Cho
 pper 10 Pilot John Massey imagined would come his way. \n\nAfter all,
  he was an Army pilot in Korea during the early 1980s.\n\nHe survived 
 Korea, but now, his military service came back to haunt his health. \
 n\n\"I was exposed to a virus serving in the Army in Korea and it take
 s 25 to 30 years to show up... and it's been that long since I was in 
 the military,\" Massey said.\n\nMassey said he visited a doctors offic
 e back in April when he wasn't feeling well.\n\n\"I had liver failure,
 \" Massey said.  \n\n**READ THE COMPLETE STORY HERE**: http://www.wa
 vy.com/dpp/news/local_news/chopper-10-pilot-fights-for-his-life\n\n\n\
 n\nFor more information visit https://vbnightlife.com/events/john-mass
 ey-ride-benefit
DTSTART:20121209T170000Z
DTEND:20121209T230000Z
CATEGORIES:fundraiser
LOCATION:BONESHAKERS
WEBSITE:
URL:
CONTACT:
ORGANIZER:VBnightlife.com / VBdaylife.com
ATTACH;FMTTYPE="image/jpeg":http://storage.ning.com/topology/rest/1.0/
 file/get/1664181895?profile=original
ATTENDEE;ROLE=REQ-PARTICIPANT;PARTSTAT=ACCEPTED;RSVP=TRUE;CN="VBnightl
 ife.com":https://vbnightlife.com/profile/admin
END:VEVENT
END:VCALENDAR
