BEGIN:VCALENDAR
PRODID:NingEventWidget-v1
VERSION:2.0
METHOD:PUBLISH
BEGIN:VEVENT
UID:2508951:Event:213959
DTSTAMP:20260421T063131Z
SUMMARY:John Mackey - CEO, Whole Foods at Regent University’s Execut
 ive Leadership Series (ELS).
DESCRIPTION:\nJoin us each month at The Founders Inn and Spa for Regen
 t University’s Executive Leadership Series (ELS). This series of lu
 ncheons brings together leaders and aspiring leaders for teaching and 
 inspiration from some of today's most intriguing, innovative and influ
 ential men and women around the world.\nJoin us as we explore the tren
 ds, principles and dynamics of leading successful organizations.\nELS 
 Gift Vouchers are now available! Call 888.372.1006 to purchase one tod
 ay.\nThe Executive Leadership Series is brought to you by these fine 
 sponsors.\nRegistration Deadline is Thursday, February 21 at 5:00 p.m.
 \nJohn Mackey Co-Founder & CEO, Whole Foods Market John Mackey is a vi
 sionary leader whose fresh, innovative business philosophy has propell
 ed Whole Foods to the number 32 spot on Fortune’s list of the 100 be
 st places to work. His new book, Conscious Capitalism, presents his fu
 ndamental principles to help businesses prosper financially, while als
 o generating critical forms of value—emotional, social, intellectual
 , ecological, financial and spiritual—that lead to quality of life f
 or his employees. John’s revolutionary, mission-driven business mode
 l unifies profitability with integrity, compassion and global responsi
 bility. John explains how a company can benefit shareholders, employee
 s, vendors, customers and the environment without compromising its fin
 ancial viability. With vision and purpose, the architect of one of the
  most inspiring stories in modern business invites listeners to join h
 im in reclaiming capitalism to change it from a system of avarice to a
  force for good. As the company’s visionary, he has led the developm
 ent of many innovative programs such as the $10 million in low-interes
 t loans to local farmers to help them expand their businesses; the Who
 le Planet Foundation, whose mission is to help end poverty in developi
 ng nations with micro credit; and a rating system that improves the we
 lfare of food animals. \n\nWhen:  February 26, 2013 12 p.m. to 2 p.m
 .\nWhere:  Founders Inn Ballroom *Doors open at 11:30 a.m.\n  \n\nFor
  more information visit https://vbnightlife.com/events/john-mackey-ceo
 -whole-foods-at-regent-university-s-executive-lead
DTSTART:20130226T170000Z
DTEND:20130226T190000Z
CATEGORIES:speaker
LOCATION:Founders Inn Ballroom
WEBSITE:
URL:
CONTACT:
ORGANIZER:VBdaylife / VBnightlife
ATTACH;FMTTYPE="image/jpeg":http://storage.ning.com/topology/rest/1.0/
 file/get/1664188430?profile=original
ATTENDEE;ROLE=REQ-PARTICIPANT;PARTSTAT=ACCEPTED;RSVP=TRUE;CN="VBnightl
 ife.com":https://vbnightlife.com/profile/admin
END:VEVENT
END:VCALENDAR
