BEGIN:VCALENDAR
PRODID:NingEventWidget-v1
VERSION:2.0
METHOD:PUBLISH
BEGIN:VEVENT
UID:2508951:Event:23590
DTSTAMP:20260422T044139Z
SUMMARY:JOHN BALDWIN @ Green Parrot Grille
DESCRIPTION:9 - 1am\n\nrock / blues / pop\n\nENJOY THE BEST LOCAL MUSI
 CIANS AND BANDS\nALONG WITH GREAT FOOD AND DRINK PRICES.\n\nFor more i
 nformation visit https://vbnightlife.com/events/john-baldwin-green-par
 rot
DTSTART:20091007T040000Z
DTEND:20091008T035900Z
CATEGORIES:band
LOCATION:Green Parrot Grille
WEBSITE:
URL:
CONTACT:
ORGANIZER;CN="VBnightlife.com":https://vbnightlife.com/profile/admin
ATTACH;FMTTYPE="image/jpeg":http://storage.ning.com/topology/rest/1.0/
 file/get/1664091070?profile=original
ATTENDEE;ROLE=REQ-PARTICIPANT;PARTSTAT=ACCEPTED;RSVP=TRUE;CN="VBnightl
 ife.com":https://vbnightlife.com/profile/admin
END:VEVENT
END:VCALENDAR
