BEGIN:VCALENDAR
PRODID:NingEventWidget-v1
VERSION:2.0
METHOD:PUBLISH
BEGIN:VEVENT
UID:2508951:Event:37888
DTSTAMP:20260425T231426Z
SUMMARY:Joe Maniscalco @ Calypso Bar and Grill 5/25 and 5/30
DESCRIPTION:Joe Maniscalco and The Two Can*Jam Band\n\nEngaging Trop R
 ock gems. Exciting blend of Motown, Beetles. Buffett and Oldies.\n\nMa
 niscalco provides vocals along with performance on the steel pan, guit
 ar, flute and trumpet. Sherri Linn Williams Holland (vocals, harmonica
  and percussion) and MargaritaBill (Bill Kendra) (vocals and percussio
 n) make up the Two*Can Jam Band.\n\nFor more information visit https:/
 /vbnightlife.com/events/joe-maniscalco-calypso-bar-1
DTSTART:20100521T210000Z
DTEND:20100522T010000Z
CATEGORIES:fun
LOCATION:Calypso Bar and Grill
WEBSITE:http://www.joemaniscalco.com
URL:http://www.joemaniscalco.com
CONTACT:757 353 0711
ORGANIZER;CN="Fran Harding":https://vbnightlife.com/profile/FranHardin
 g
ATTACH;FMTTYPE="image/jpeg":http://storage.ning.com/topology/rest/1.0/
 file/get/1664111144?profile=original
ATTENDEE;ROLE=REQ-PARTICIPANT;PARTSTAT=ACCEPTED;RSVP=TRUE;CN="Fran Har
 ding":https://vbnightlife.com/profile/FranHarding
END:VEVENT
END:VCALENDAR
