BEGIN:VCALENDAR
PRODID:NingEventWidget-v1
VERSION:2.0
METHOD:PUBLISH
BEGIN:VEVENT
UID:2508951:Event:25514
DTSTAMP:20260425T090336Z
SUMMARY:JOE GOSMAN BAND @ NEW MOON CAFE
DESCRIPTION:Come sit by the fire and let this fabulous live band enter
 tain you!\n\n9 to 1\n\nFor more information visit https://vbnightlife.
 com/events/joe-gosman-band-new-moon-cafe
DTSTART:20091121T050000Z
DTEND:20091122T045900Z
CATEGORIES:band
LOCATION:New Moon Cafe
WEBSITE:
URL:
CONTACT:
ORGANIZER;CN="VBnightlife.com":https://vbnightlife.com/profile/admin
ATTACH;FMTTYPE="image/jpeg":http://storage.ning.com/topology/rest/1.0/
 file/get/1664093218?profile=original
ATTENDEE;ROLE=REQ-PARTICIPANT;PARTSTAT=ACCEPTED;RSVP=TRUE;CN="VBnightl
 ife.com":https://vbnightlife.com/profile/admin
END:VEVENT
END:VCALENDAR
