BEGIN:VCALENDAR
PRODID:NingEventWidget-v1
VERSION:2.0
METHOD:PUBLISH
BEGIN:VEVENT
UID:2508951:Event:39722
DTSTAMP:20260420T164816Z
SUMMARY:JIMMY HOPPER @ IL GIARDINO RESTAURANTE
DESCRIPTION:Crooner Jimmy Hopper will bring his high-energy and award-
 winning vocals on songs ranging from opera to symphonic rock to Il Gia
 rdinos Friday at 9:30 and Saturday at 10:30. Minimum $10 donation at t
 he door to benefit ALS research.\n\nPlease call Il Giardino to reserve
  a table\n910 Atlantic Avenue\nVirginia Beach, VA 23451-3543\n(757) 42
 2-6464\n\nFor more information visit https://vbnightlife.com/events/ji
 mmy-hopper-il-giardino
DTSTART:20100626T040000Z
DTEND:20100627T035900Z
CATEGORIES:festival, "/", concert
LOCATION:Il Giardino's
WEBSITE:
URL:
CONTACT:
ORGANIZER;CN="VBnightlife.com":https://vbnightlife.com/profile/admin
ATTACH;FMTTYPE="image/jpeg":http://storage.ning.com/topology/rest/1.0/
 file/get/1664109846?profile=original
ATTENDEE;ROLE=REQ-PARTICIPANT;PARTSTAT=ACCEPTED;RSVP=TRUE;CN="VBnightl
 ife.com":https://vbnightlife.com/profile/admin
END:VEVENT
END:VCALENDAR
