BEGIN:VCALENDAR
PRODID:NingEventWidget-v1
VERSION:2.0
METHOD:PUBLISH
BEGIN:VEVENT
UID:2508951:Event:157167
DTSTAMP:20260423T225954Z
SUMMARY:Jesse Cong @ South Beach
DESCRIPTION:Jesse Chong hails from the resort town of Virginia Beach, 
 Virginia and is a master of the game in his hometown. His dedication a
 nd unfaltering work ethic makes him the most sought after artist in th
 e region and affords him a lifestyle centered on music. Jesse performs
  as a solo artist as well as with a 4 piece band covering a range of g
 enres- including blues, bluegrass, reggae, and funk. Jesse’s eclecti
 c sound draws comparisons to artists such as Ben Harper, Dave Matthews
 , John Mayer, and Keller Williams.Jesse is 27 years old and has been p
 laying paid gigs since the age of 13. His talent and professionalism h
 ave made him the “first call” artist to open for world-class perfo
 rmers as well as headline his city’s biggest festivals. Jesse’s br
 oad appeal has allowed him to open for classic rockers such as Steely 
 Dan, John Fogerty, Leon Russell and The Neville Brothers, country star
 s such as Willie Nelson and Brad Paisley, reggae greats such as Steel 
 Pulse, Israel Vibration, and the Wailers, jambands such as Dark Star O
 rchestra, Perpetual Groove, and RAQ, and also pop artists such as Maro
 on 5, Norah Jones, Emerson Hart, and INXS. Jesse has performed for tho
 usands of people and wins audiences with impeccable musicianship and e
 xcellent songwriting.\n \nJesse has three albums of original material
  with a fourth being released in Summer 2008. Not only skilled as a li
 ve performer, Jesse’s talents also go into his home studio where he 
 self-produced, engineered, and mixed his last two albums- not to menti
 on performing all the parts!  Recently the Jesse Chong Band was given
  the “Best Live Performance” award from Portfolio Weekly Magazine,
  a local magazine based in Southeastern, VA, and Jesse is also honored
  with the title of “Best Acoustic Act”. These accolades were won b
 y maintaining a fervent fan base that continues to expand.  In every 
 city that Jesse Chong plays he is received enthusiastically and he str
 ives to duplicate his hometown success regionally and nationally.\n\nF
 or more information visit https://vbnightlife.com/events/jesse-cong-so
 uth-beach
DTSTART:20110718T000000Z
DTEND:20110718T033000Z
CATEGORIES:"virginia beach events", "virginia beach entertainment", "v
 irginia beach music", "virginia beach bands"
LOCATION:South Beach Grill
WEBSITE:
URL:
CONTACT:
ORGANIZER;CN="VBnightlife.com":https://vbnightlife.com/profile/admin
ATTACH;FMTTYPE="image/jpeg":http://storage.ning.com/topology/rest/1.0/
 file/get/1664148718?profile=original
ATTENDEE;ROLE=REQ-PARTICIPANT;PARTSTAT=ACCEPTED;RSVP=TRUE;CN="VBnightl
 ife.com":https://vbnightlife.com/profile/admin
END:VEVENT
END:VCALENDAR
