BEGIN:VCALENDAR
PRODID:NingEventWidget-v1
VERSION:2.0
METHOD:PUBLISH
BEGIN:VEVENT
UID:2508951:Event:10864
DTSTAMP:20260425T203343Z
SUMMARY:JESSE CHONG @ THE NARO
DESCRIPTION:Jesse's Rockin' the NARO!\n\nJesse's opening at the NARO f
 or Jonatha Brooke to kickoff the 2nd Annual Sea Level Singer/Songwrite
 r Festival on April 9 at the Naro Cinema in Ghent.\n\nTickets for the 
 kick off concert are $25 in advance and $30 at the door. Tickets may b
 e purchased at the Naro Cinema, Naro Video, Birdland Music, DnD Music,
  by email TWartsoutreach@cox.net or calling 754-4486. Doors open at 6:
 30, and the concert starts at 7:30 pm.\n\nCheck out all of Jesse's upc
 oming shows and purchase Jesse's latest music and merchandise at jesse
 chong.net\n\nFor more information visit https://vbnightlife.com/events
 /jesse-chong-the-naro
DTSTART:20090409T233000Z
DTEND:20090410T030000Z
CATEGORIES:concert
LOCATION:The Naro
WEBSITE:http://maps.google.com/
URL:http://maps.google.com/
CONTACT:
ORGANIZER;CN="Nicole Maxino":https://vbnightlife.com/profile/NicoleMax
 ino
ATTACH;FMTTYPE="image/jpeg":http://storage.ning.com/topology/rest/1.0/
 file/get/1664072187?profile=original
ATTENDEE;ROLE=REQ-PARTICIPANT;PARTSTAT=ACCEPTED;RSVP=TRUE;CN="Nicole M
 axino":https://vbnightlife.com/profile/NicoleMaxino
END:VEVENT
END:VCALENDAR
