BEGIN:VCALENDAR
PRODID:NingEventWidget-v1
VERSION:2.0
METHOD:PUBLISH
BEGIN:VEVENT
UID:2508951:Event:8813
DTSTAMP:20260425T185228Z
SUMMARY:JESSE CHONG @ Murphy's Irish Pub
DESCRIPTION:WE LOVE JESSE!!!\n\n10PM TO 2AM\n\nFor more information vi
 sit https://vbnightlife.com/events/jesse-chong-murphys-irish-pub-6
DTSTART:20090322T040000Z
DTEND:20090323T035900Z
CATEGORIES:live, music
LOCATION:Murphy's Irish Pub
WEBSITE:
URL:
CONTACT:
ORGANIZER;CN="Nicole Maxino":https://vbnightlife.com/profile/NicoleMax
 ino
ATTACH;FMTTYPE="image/jpeg":http://storage.ning.com/topology/rest/1.0/
 file/get/1664069992?profile=original
ATTENDEE;ROLE=REQ-PARTICIPANT;PARTSTAT=ACCEPTED;RSVP=TRUE;CN="Nicole M
 axino":https://vbnightlife.com/profile/NicoleMaxino
END:VEVENT
END:VCALENDAR
