BEGIN:VCALENDAR
PRODID:NingEventWidget-v1
VERSION:2.0
METHOD:PUBLISH
BEGIN:VEVENT
UID:2508951:Event:5383
DTSTAMP:20260426T001053Z
SUMMARY:JESSE CHONG @ Murphy's Irish Pub
DESCRIPTION:WE LOVE JESSE!!!\n\nFor more information visit https://vbn
 ightlife.com/events/jesse-chong-murphys-irish-pub-4
DTSTART:20090209T230000Z
DTEND:20090210T000000Z
CATEGORIES:live, music
LOCATION:Murphy's Irish Pub
WEBSITE:
URL:
CONTACT:
ORGANIZER:Murphy's
ATTACH;FMTTYPE="image/jpeg":http://storage.ning.com/topology/rest/1.0/
 file/get/1664069257?profile=original
ATTENDEE;ROLE=REQ-PARTICIPANT;PARTSTAT=ACCEPTED;RSVP=TRUE;CN="Nicole M
 axino":https://vbnightlife.com/profile/NicoleMaxino
END:VEVENT
END:VCALENDAR
