BEGIN:VCALENDAR
PRODID:NingEventWidget-v1
VERSION:2.0
METHOD:PUBLISH
BEGIN:VEVENT
UID:2508951:Event:298580
DTSTAMP:20260422T044532Z
SUMMARY:Wine & Live Jazz Jam at our After Work Party at Ammos Restaura
 nt
DESCRIPTION:The VBnightlife.com Jazz Jam After Work Party is tomorr
 ow night at 6:30\n Joe Summers and the Sunset Fusion Jazz Band will b
 e in the house to start the jam. As always, a few of our Jazz music
 ian friends will stop by!   Providing us a true jazz set with 10-15
  musicians participating. This is the Jazz & Wine Jam you've been as
 king for!  Arrive early to ensure seating or call to reserve your ta
 ble - 757 340 4343\n\n\nMUSICIANS WELCOME! Bring your AXE  and join 
 in and Jam.  All Jazz enthusiasts are welcome....  players and list
 eners. Musicians and vocalists are invited to get on stage and join th
 e band for a few songs.  \n\n\nThere is NO COVER, the vibe is aweso
 me and the food is excellent so bring your appetite and join us for 
 some hump day fun!\n\n\nEnjoy $10 off all Bottles of Wine all night\n\
 n\nSo that we may continue to provide you with this awesome band at no
  charge every Wednesday, the restaurant will not be accepting voucher
 s, groupons, coupons or hotdeals this night\n\nAddress and Directions:
  324 N. Great Neck Road, Virginia Beach, VA 23454\n\nQuestions? Call 
 Nicole Maxino at:  757 652 0808   Can't wait to see you tomorrow ni
 ght!\n\n  \n\n\nFor more information visit https://vbnightlife.com/e
 vents/jazz-wine-jam-and-after-work-party-at-ammos-restaurant
DTSTART:20141105T233000Z
DTEND:20141106T023000Z
CATEGORIES:"jazz jam", "things to do in virginia beach"
LOCATION:Ammos Restaurant
WEBSITE:
URL:
CONTACT:
ORGANIZER;CN="VBnightlife.com":https://vbnightlife.com/profile/admin
ATTACH;FMTTYPE="image/jpeg":http://storage.ning.com/topology/rest/1.0/
 file/get/1664249739?profile=original
ATTENDEE;ROLE=REQ-PARTICIPANT;PARTSTAT=ACCEPTED;RSVP=TRUE;CN="VBnightl
 ife.com":https://vbnightlife.com/profile/admin
END:VEVENT
END:VCALENDAR
