BEGIN:VCALENDAR
PRODID:NingEventWidget-v1
VERSION:2.0
METHOD:PUBLISH
BEGIN:VEVENT
UID:2508951:Event:10123
DTSTAMP:20260425T201653Z
SUMMARY:JAZZ MUSICIANS SHOWCASE @ BAYSIDE INN
DESCRIPTION:8PM\n\nHOSTED BY GIL CRUZ AND FRIENDS\n\nFor more informat
 ion visit https://vbnightlife.com/events/jazz-musicians-showcase
DTSTART:20090405T040000Z
DTEND:20090406T035900Z
CATEGORIES:jazz
LOCATION:Bayside Inn
WEBSITE:
URL:
CONTACT:
ORGANIZER:Bayside Inn
ATTACH;FMTTYPE="image/jpeg":http://storage.ning.com/topology/rest/1.0/
 file/get/1664070602?profile=original
ATTENDEE;ROLE=REQ-PARTICIPANT;PARTSTAT=ACCEPTED;RSVP=TRUE;CN="Nicole M
 axino":https://vbnightlife.com/profile/NicoleMaxino
END:VEVENT
END:VCALENDAR
