BEGIN:VCALENDAR
PRODID:NingEventWidget-v1
VERSION:2.0
METHOD:PUBLISH
BEGIN:VEVENT
UID:2508951:Event:179670
DTSTAMP:20260420T150044Z
SUMMARY:Ladies Night at 11th St. Taphouse - JAMES DEANS IS MOVING!  CA
 TCH HIS LAST NIGHT  & Colorblind from 9:30 to close!  Great Show!
DESCRIPTION:Ladies Night at \"11th St. Taphouse\" from 6 to 9 with $5.
 00 Martini's and Domestic Beers for men and women!\n \nJames Deans is
  performing from 6:30 to 9.\nCOLORBLIND is performing from 9:30 to Clo
 se!  Rockin!\n \nVBnightlife is in the house!  See you there!\n\nFo
 r more information visit https://vbnightlife.com/events/jameslastnight
DTSTART:20111118T230000Z
DTEND:20111119T044500Z
CATEGORIES:"virginia beach entertainment", "virginia beach music", "vi
 rginia beach major concerts", "national tours"
LOCATION:11th St. Taphouse
WEBSITE:http://www.11taphouse.com
URL:http://www.11taphouse.com
CONTACT:(757) 321-8354
ORGANIZER;CN="VBnightlife.com":https://vbnightlife.com/profile/admin
ATTACH;FMTTYPE="image/jpeg":http://storage.ning.com/topology/rest/1.0/
 file/get/1664158009?profile=original
ATTENDEE;ROLE=REQ-PARTICIPANT;PARTSTAT=ACCEPTED;RSVP=TRUE;CN="VBnightl
 ife.com":https://vbnightlife.com/profile/admin
END:VEVENT
END:VCALENDAR
