BEGIN:VCALENDAR
PRODID:NingEventWidget-v1
VERSION:2.0
METHOD:PUBLISH
BEGIN:VEVENT
UID:2508951:Event:25461
DTSTAMP:20260425T072639Z
SUMMARY:Jack Becker LIVE at The Tiki Seagrille and Bar
DESCRIPTION:Jack Becker brings his tropical jams and classic rock to t
 he Tiki this Saturday! Be there!\n\nFor more information visit https:/
 /vbnightlife.com/events/jack-becker-live-at-the-tiki
DTSTART:20091122T020000Z
DTEND:20091122T044500Z
CATEGORIES:live, music
LOCATION:Tiki Seagrille and Bar
WEBSITE:
URL:
CONTACT:
ORGANIZER;CN="Jack Becker":https://vbnightlife.com/profile/JackBecker
ATTACH;FMTTYPE="image/jpeg":http://storage.ning.com/topology/rest/1.0/
 file/get/1664093753?profile=original
ATTENDEE;ROLE=REQ-PARTICIPANT;PARTSTAT=ACCEPTED;RSVP=TRUE;CN="Jack Bec
 ker":https://vbnightlife.com/profile/JackBecker
END:VEVENT
END:VCALENDAR
