BEGIN:VCALENDAR
PRODID:NingEventWidget-v1
VERSION:2.0
METHOD:PUBLISH
BEGIN:VEVENT
UID:2508951:Event:81388
DTSTAMP:20260420T090602Z
SUMMARY:Jack Becker LIVE at THE ICEHOUSE
DESCRIPTION:ST. PATRICK'S DAY BASH! Jack Becker brings his tropical ja
 ms and classic rock to THE ICEHOUSE!  Stay local in Shadowlawn and do
  St. Patty's up right!!  We're starting early at 8:30pm and staying o
 pen late!! Be there!!\n\nFor more information visit https://vbnightlif
 e.com/events/jack-becker-live-at-the-157
DTSTART:20110318T003000Z
DTEND:20110318T050000Z
CATEGORIES:live, music
LOCATION:The Icehouse Restaurant
WEBSITE:
URL:
CONTACT:
ORGANIZER;CN="Jack Becker":https://vbnightlife.com/profile/JackBecker
ATTACH;FMTTYPE="image/jpeg":http://storage.ning.com/topology/rest/1.0/
 file/get/1664132911?profile=original
ATTENDEE;ROLE=REQ-PARTICIPANT;PARTSTAT=ACCEPTED;RSVP=TRUE;CN="Jack Bec
 ker":https://vbnightlife.com/profile/JackBecker
END:VEVENT
END:VCALENDAR
