BEGIN:VCALENDAR
PRODID:NingEventWidget-v1
VERSION:2.0
METHOD:PUBLISH
BEGIN:VEVENT
UID:2508951:Event:40913
DTSTAMP:20260425T104340Z
SUMMARY:Jack Becker LIVE at Keagan's Sports Pub
DESCRIPTION:Jack Becker brings his tropical jams and classic rock to K
 eagan's Sports Pub this Friday night!!! Come on out and escape the hea
 t and the nasty oceanfront crowds!!! Be there!!\n\nFor more informatio
 n visit https://vbnightlife.com/events/jack-becker-live-at-keagans-335
DTSTART:20100710T020000Z
DTEND:20100710T034500Z
CATEGORIES:live, music
LOCATION:Keagan's Sports Pub
WEBSITE:
URL:
CONTACT:
ORGANIZER;CN="Jack Becker":https://vbnightlife.com/profile/JackBecker
ATTACH;FMTTYPE="image/jpeg":http://storage.ning.com/topology/rest/1.0/
 file/get/1664113771?profile=original
ATTENDEE;ROLE=REQ-PARTICIPANT;PARTSTAT=ACCEPTED;RSVP=TRUE;CN="Jack Bec
 ker":https://vbnightlife.com/profile/JackBecker
END:VEVENT
END:VCALENDAR
