BEGIN:VCALENDAR
PRODID:NingEventWidget-v1
VERSION:2.0
METHOD:PUBLISH
BEGIN:VEVENT
UID:2508951:Event:13126
DTSTAMP:20260425T225535Z
SUMMARY:Jack Becker LIVE at Finn McCool's
DESCRIPTION:Jack Becker brings his tropical jams to Finn McCool's this
  Wednesday... be there!\n\nFor more information visit https://vbnightl
 ife.com/events/jack-becker-live-at-finn
DTSTART:20090507T010000Z
DTEND:20090507T043000Z
CATEGORIES:live, music
LOCATION:Finn McCool's
WEBSITE:
URL:
CONTACT:
ORGANIZER;CN="Jack Becker":https://vbnightlife.com/profile/JackBecker
ATTACH;FMTTYPE="image/jpeg":http://storage.ning.com/topology/rest/1.0/
 file/get/1664074666?profile=original
ATTENDEE;ROLE=REQ-PARTICIPANT;PARTSTAT=ACCEPTED;RSVP=TRUE;CN="Jack Bec
 ker":https://vbnightlife.com/profile/JackBecker
END:VEVENT
END:VCALENDAR
