BEGIN:VCALENDAR
PRODID:NingEventWidget-v1
VERSION:2.0
METHOD:PUBLISH
BEGIN:VEVENT
UID:2508951:Event:13950
DTSTAMP:20260420T185651Z
SUMMARY:Jack Becker LIVE at Catch 31
DESCRIPTION:Jack Becker brings his tropical jams to the outdoor stage 
 at Catch 31. Be there!\n\nFor more information visit https://vbnightli
 fe.com/events/jack-becker-live-at-catch-31
DTSTART:20090526T220000Z
DTEND:20090527T020000Z
CATEGORIES:live, music
LOCATION:Catch 31
WEBSITE:
URL:
CONTACT:
ORGANIZER;CN="Jack Becker":https://vbnightlife.com/profile/JackBecker
ATTACH;FMTTYPE="image/jpeg":http://storage.ning.com/topology/rest/1.0/
 file/get/1664074052?profile=original
ATTENDEE;ROLE=REQ-PARTICIPANT;PARTSTAT=ACCEPTED;RSVP=TRUE;CN="Jack Bec
 ker":https://vbnightlife.com/profile/JackBecker
END:VEVENT
END:VCALENDAR
