BEGIN:VCALENDAR
PRODID:NingEventWidget-v1
VERSION:2.0
METHOD:PUBLISH
BEGIN:VEVENT
UID:2508951:Event:13965
DTSTAMP:20260421T050544Z
SUMMARY:Jack Becker LIVE at 757
DESCRIPTION:Jack Becker brings his tropical jams to 757 this Thursday.
  Be there!\n\nFor more information visit https://vbnightlife.com/event
 s/jack-becker-live-at-757-1
DTSTART:20090529T013000Z
DTEND:20090529T043000Z
CATEGORIES:live, music
LOCATION:757
WEBSITE:
URL:
CONTACT:
ORGANIZER;CN="Jack Becker":https://vbnightlife.com/profile/JackBecker
ATTACH;FMTTYPE="image/jpeg":http://storage.ning.com/topology/rest/1.0/
 file/get/1664074425?profile=original
ATTENDEE;ROLE=REQ-PARTICIPANT;PARTSTAT=ACCEPTED;RSVP=TRUE;CN="Jack Bec
 ker":https://vbnightlife.com/profile/JackBecker
END:VEVENT
END:VCALENDAR
