BEGIN:VCALENDAR
PRODID:NingEventWidget-v1
VERSION:2.0
METHOD:PUBLISH
BEGIN:VEVENT
UID:2508951:Event:12572
DTSTAMP:20260426T001031Z
SUMMARY:Jack Becker @ Keagan's Town Center
DESCRIPTION:Jack Becker brings his tropical jams to Keagan's this Satu
 rday... be there!\n\nFor more information visit https://vbnightlife.co
 m/events/jack-becker-keagans-town
DTSTART:20090503T020000Z
DTEND:20090503T053000Z
CATEGORIES:live, music
LOCATION:Keagan's at Town Center
WEBSITE:
URL:
CONTACT:
ORGANIZER;CN="Jack Becker":https://vbnightlife.com/profile/JackBecker
ATTACH;FMTTYPE="image/jpeg":http://storage.ning.com/topology/rest/1.0/
 file/get/1664075032?profile=original
ATTENDEE;ROLE=REQ-PARTICIPANT;PARTSTAT=ACCEPTED;RSVP=TRUE;CN="Jack Bec
 ker":https://vbnightlife.com/profile/JackBecker
END:VEVENT
END:VCALENDAR
