BEGIN:VCALENDAR
PRODID:NingEventWidget-v1
VERSION:2.0
METHOD:PUBLISH
BEGIN:VEVENT
UID:2508951:Event:7342
DTSTAMP:20260425T203543Z
SUMMARY:IT'S RAINING CATS AND DOGS - to benefit the SPCA - Opening Rec
 eption
DESCRIPTION:March 6 - 27 2009\nA fundraiser for the Virginia Beach SPC
 A. Paintings, sculptures, ceramics, jewelry, all for our fuzzy, furry,
  four-legged friends who are need of our help to survive. Donation of 
 a toy, blankets, tins of kitten food, or dog food is appreciated. PEOP
 LES CHOICE AWARDS! Opening reception is March 6th, 2009, from 6 pm to 
 8:30 pm. Cat or dog costumes, and makeup welcome. Free and Open to the
  Public. Parking and refreshments.\n\nFor more information visit https
 ://vbnightlife.com/events/its-raining-cats-and-dogs-to
DTSTART:20090306T230000Z
DTEND:20090307T013000Z
CATEGORIES:fundraiser
LOCATION:The Artists Gallery
WEBSITE:
URL:
CONTACT:
ORGANIZER:The Artists Gallery
ATTACH;FMTTYPE="image/jpeg":http://storage.ning.com/topology/rest/1.0/
 file/get/3723680038?profile=original
ATTENDEE;ROLE=REQ-PARTICIPANT;PARTSTAT=ACCEPTED;RSVP=TRUE;CN="Nicole M
 axino":https://vbnightlife.com/profile/NicoleMaxino
END:VEVENT
END:VCALENDAR
